BEGIN:VCALENDAR
VERSION:2.0
PRODID:-//CVDPN - ECPv6.15.20//NONSGML v1.0//EN
CALSCALE:GREGORIAN
METHOD:PUBLISH
X-WR-CALNAME:CVDPN
X-ORIGINAL-URL:https://cvdpn.org
X-WR-CALDESC:Events for CVDPN
REFRESH-INTERVAL;VALUE=DURATION:PT1H
X-Robots-Tag:noindex
X-PUBLISHED-TTL:PT1H
BEGIN:VTIMEZONE
TZID:UTC
BEGIN:STANDARD
TZOFFSETFROM:+0000
TZOFFSETTO:+0000
TZNAME:UTC
DTSTART:20220101T000000
END:STANDARD
END:VTIMEZONE
BEGIN:VEVENT
DTSTART;TZID=UTC:20240424T140000
DTEND;TZID=UTC:20240424T160000
DTSTAMP:20260421T211407
CREATED:20240319T190227Z
LAST-MODIFIED:20240404T190834Z
UID:2905-1713967200-1713974400@cvdpn.org
SUMMARY:Stop the Bleed
DESCRIPTION:
URL:https://cvdpn.org/event/stop-the-bleed-2/
END:VEVENT
BEGIN:VEVENT
DTSTART;TZID=UTC:20240423T090000
DTEND;TZID=UTC:20240423T130000
DTSTAMP:20260421T211407
CREATED:20240319T190126Z
LAST-MODIFIED:20240404T190754Z
UID:2903-1713862800-1713877200@cvdpn.org
SUMMARY:Build a Community Disaster Plan
DESCRIPTION:
URL:https://cvdpn.org/event/community-disaster-plan/
END:VEVENT
BEGIN:VEVENT
DTSTART;TZID=UTC:20240419T000000
DTEND;TZID=UTC:20240421T000000
DTSTAMP:20260421T211407
CREATED:20240319T190021Z
LAST-MODIFIED:20240319T190021Z
UID:2901-1713484800-1713657600@cvdpn.org
SUMMARY:Palm Desert CERT
DESCRIPTION:
URL:https://cvdpn.org/event/palm-desert-cert/
END:VEVENT
BEGIN:VEVENT
DTSTART;TZID=UTC:20240410T140000
DTEND;TZID=UTC:20240410T160000
DTSTAMP:20260421T211407
CREATED:20240319T185659Z
LAST-MODIFIED:20240404T190355Z
UID:2899-1712757600-1712764800@cvdpn.org
SUMMARY:Active Shooter and Personal Preparedness Seminar.
DESCRIPTION:
URL:https://cvdpn.org/event/active-shooter-and-personal-preparedness-seminar/
END:VEVENT
BEGIN:VEVENT
DTSTART;VALUE=DATE:20240405
DTEND;VALUE=DATE:20240408
DTSTAMP:20260421T211407
CREATED:20240226T174131Z
LAST-MODIFIED:20240226T174131Z
UID:2852-1712275200-1712534399@cvdpn.org
SUMMARY:Palm Springs CERT
DESCRIPTION:CERT TRAINING-APR-2024
URL:https://cvdpn.org/event/palm-springs-cert/
END:VEVENT
BEGIN:VEVENT
DTSTART;TZID=UTC:20240330T090000
DTEND;TZID=UTC:20240330T130000
DTSTAMP:20260421T211407
CREATED:20240319T185220Z
LAST-MODIFIED:20240319T185220Z
UID:2895-1711789200-1711803600@cvdpn.org
SUMMARY:Coachella Valley Quake Heroes Expo
DESCRIPTION:
URL:https://cvdpn.org/event/coachella-valley-quake-heroes-expo/
END:VEVENT
BEGIN:VEVENT
DTSTART;TZID=UTC:20240313T090000
DTEND;TZID=UTC:20240313T110000
DTSTAMP:20260421T211407
CREATED:20240226T173718Z
LAST-MODIFIED:20240226T173856Z
UID:2849-1710320400-1710327600@cvdpn.org
SUMMARY:Stop the Bleed
DESCRIPTION:2024-CVDPN-STB-Mar13
URL:https://cvdpn.org/event/stop-the-bleed/
END:VEVENT
BEGIN:VEVENT
DTSTART;VALUE=DATE:20240305
DTEND;VALUE=DATE:20240306
DTSTAMP:20260421T211407
CREATED:20240226T173603Z
LAST-MODIFIED:20240226T173959Z
UID:2847-1709596800-1709683199@cvdpn.org
SUMMARY:Day of Giving
DESCRIPTION:2024-CVGivingDay-CVDPN-CC2 \n 
URL:https://cvdpn.org/event/day-of-giving/
END:VEVENT
BEGIN:VEVENT
DTSTART;TZID=UTC:20240226T173000
DTEND;TZID=UTC:20240226T183000
DTSTAMP:20260421T211407
CREATED:20240202T065804Z
LAST-MODIFIED:20240202T070223Z
UID:2827-1708968600-1708972200@cvdpn.org
SUMMARY:Feb 26 - Rancho Mirage Readiness Seminar
DESCRIPTION:
URL:https://cvdpn.org/event/feb-26-rancho-mirage-readiness-seminar/
END:VEVENT
BEGIN:VEVENT
DTSTART;TZID=UTC:20240220T090000
DTEND;TZID=UTC:20240220T110000
DTSTAMP:20260421T211407
CREATED:20240202T065132Z
LAST-MODIFIED:20240202T065257Z
UID:2822-1708419600-1708426800@cvdpn.org
SUMMARY:Feb 20 - Stop the Bleed
DESCRIPTION:
URL:https://cvdpn.org/event/feb-20-stop-the-bleed/
END:VEVENT
BEGIN:VEVENT
DTSTART;TZID=UTC:20240215T100000
DTEND;TZID=UTC:20240215T113000
DTSTAMP:20260421T211407
CREATED:20240202T064813Z
LAST-MODIFIED:20240202T064813Z
UID:2819-1707991200-1707996600@cvdpn.org
SUMMARY:Feb 15 - Personal Preparedness
DESCRIPTION:
URL:https://cvdpn.org/event/feb-15-personal-preparedness/
END:VEVENT
BEGIN:VEVENT
DTSTART;TZID=UTC:20240209T103000
DTEND;TZID=UTC:20240209T103000
DTSTAMP:20260421T211407
CREATED:20240202T064324Z
LAST-MODIFIED:20240202T070751Z
UID:2814-1707474600-1707474600@cvdpn.org
SUMMARY:Feb 9 -  DRM
DESCRIPTION:
URL:https://cvdpn.org/event/feb-9-drm/
END:VEVENT
BEGIN:VEVENT
DTSTART;VALUE=DATE:20240201
DTEND;VALUE=DATE:20240202
DTSTAMP:20260421T211407
CREATED:20231115T213923Z
LAST-MODIFIED:20231115T213923Z
UID:2757-1706745600-1706831999@cvdpn.org
SUMMARY:La Quinta Wellness Center
DESCRIPTION:La Quinta Wellness Center
URL:https://cvdpn.org/event/la-quinta-wellness-center/
END:VEVENT
BEGIN:VEVENT
DTSTART;VALUE=DATE:20240201
DTEND;VALUE=DATE:20240202
DTSTAMP:20260421T211407
CREATED:20231115T213901Z
LAST-MODIFIED:20231115T213901Z
UID:2755-1706745600-1706831999@cvdpn.org
SUMMARY:Heritage Palms Shake it Up!
DESCRIPTION:Heritage Palms Shake it Up!
URL:https://cvdpn.org/event/heritage-palms-shake-it-up/
END:VEVENT
BEGIN:VEVENT
DTSTART;VALUE=DATE:20240123
DTEND;VALUE=DATE:20240124
DTSTAMP:20260421T211407
CREATED:20231115T213819Z
LAST-MODIFIED:20231115T213819Z
UID:2753-1705968000-1706054399@cvdpn.org
SUMMARY:Stop the Bleed\, RAP
DESCRIPTION:Stop the Bleed\, RAP
URL:https://cvdpn.org/event/stop-the-bleed-rap/
END:VEVENT
BEGIN:VEVENT
DTSTART;VALUE=DATE:20240118
DTEND;VALUE=DATE:20240119
DTSTAMP:20260421T211407
CREATED:20231115T213755Z
LAST-MODIFIED:20231115T213755Z
UID:2751-1705536000-1705622399@cvdpn.org
SUMMARY:City of La Quinta Neighborhood Watch\, City Hall
DESCRIPTION:City of La Quinta Neighborhood Watch\, City Hall
URL:https://cvdpn.org/event/city-of-la-quinta-neighborhood-watch-city-hall/
END:VEVENT
BEGIN:VEVENT
DTSTART;VALUE=DATE:20231213
DTEND;VALUE=DATE:20231214
DTSTAMP:20260421T211407
CREATED:20231115T213654Z
LAST-MODIFIED:20231115T213705Z
UID:2748-1702425600-1702511999@cvdpn.org
SUMMARY:The Lakes CC Expo Event
DESCRIPTION:The Lakes CC Expo Event
URL:https://cvdpn.org/event/the-lakes-cc-expo-event/
END:VEVENT
BEGIN:VEVENT
DTSTART;VALUE=DATE:20231208
DTEND;VALUE=DATE:20231209
DTSTAMP:20260421T211407
CREATED:20231115T213628Z
LAST-MODIFIED:20231115T213628Z
UID:2746-1701993600-1702079999@cvdpn.org
SUMMARY:Cathedral City North Pole Village
DESCRIPTION:Cathedral City North Pole Village
URL:https://cvdpn.org/event/cathedral-city-north-pole-village/
END:VEVENT
BEGIN:VEVENT
DTSTART;VALUE=DATE:20231202
DTEND;VALUE=DATE:20231203
DTSTAMP:20260421T211407
CREATED:20231115T213504Z
LAST-MODIFIED:20231115T213504Z
UID:2742-1701475200-1701561599@cvdpn.org
SUMMARY:International Day of Persons with Disabilities
DESCRIPTION:International Day of Persons with Disabilities\, The Living Desert.
URL:https://cvdpn.org/event/international-day-of-persons-with-disabilities/
LOCATION:The Living Desert Zoo and Gardens\, 47900 Portola Ave\, Palm Desert\, CA\, 92260\, United States
END:VEVENT
END:VCALENDAR