BEGIN:VCALENDAR
VERSION:2.0
PRODID:-//CVDPN - ECPv6.15.20//NONSGML v1.0//EN
CALSCALE:GREGORIAN
METHOD:PUBLISH
X-WR-CALNAME:CVDPN
X-ORIGINAL-URL:https://cvdpn.org
X-WR-CALDESC:Events for CVDPN
REFRESH-INTERVAL;VALUE=DURATION:PT1H
X-Robots-Tag:noindex
X-PUBLISHED-TTL:PT1H
BEGIN:VTIMEZONE
TZID:UTC
BEGIN:STANDARD
TZOFFSETFROM:+0000
TZOFFSETTO:+0000
TZNAME:UTC
DTSTART:20230101T000000
END:STANDARD
END:VTIMEZONE
BEGIN:VEVENT
DTSTART;TZID=UTC:20250224T180000
DTEND;TZID=UTC:20250224T190000
DTSTAMP:20260421T151851
CREATED:20241227T052342Z
LAST-MODIFIED:20241227T052342Z
UID:3418-1740420000-1740423600@cvdpn.org
SUMMARY:Rancho Mirage Disaster Recovery Mindset
DESCRIPTION:
URL:https://cvdpn.org/event/rancho-mirage-disaster-recovery-mindset/
END:VEVENT
BEGIN:VEVENT
DTSTART;VALUE=DATE:20250223
DTEND;VALUE=DATE:20250224
DTSTAMP:20260421T151851
CREATED:20240909T211819Z
LAST-MODIFIED:20240909T211819Z
UID:3090-1740268800-1740355199@cvdpn.org
SUMMARY:Sunnylands Earthquake Preparedness Event
DESCRIPTION:
URL:https://cvdpn.org/event/sunnylands-earthquake-preparedness-event/
LOCATION:Sunnylands Welcome Center
END:VEVENT
BEGIN:VEVENT
DTSTART;VALUE=DATE:20250221
DTEND;VALUE=DATE:20250222
DTSTAMP:20260421T151851
CREATED:20240909T211543Z
LAST-MODIFIED:20240909T211543Z
UID:3087-1740096000-1740182399@cvdpn.org
SUMMARY:Desert Resort Mgmt Educational Symposium
DESCRIPTION:
URL:https://cvdpn.org/event/desert-resort-mgmt-educational-symposium/
LOCATION:Hyatt Indian Wells
END:VEVENT
BEGIN:VEVENT
DTSTART;TZID=UTC:20250213T140000
DTEND;TZID=UTC:20250213T150000
DTSTAMP:20260421T151851
CREATED:20240909T212040Z
LAST-MODIFIED:20250204T191729Z
UID:3096-1739455200-1739458800@cvdpn.org
SUMMARY:Personal Preparedness Training
DESCRIPTION:
URL:https://cvdpn.org/event/personal-preparedness-training-3/
LOCATION:RAP Room 103
END:VEVENT
BEGIN:VEVENT
DTSTART;TZID=UTC:20250129T130000
DTEND;TZID=UTC:20250129T150000
DTSTAMP:20260421T151851
CREATED:20240909T211255Z
LAST-MODIFIED:20250114T191656Z
UID:3085-1738155600-1738162800@cvdpn.org
SUMMARY:Stop the Bleed
DESCRIPTION:
URL:https://cvdpn.org/event/stop-the-bleed-6/
LOCATION:RAP Room 103
END:VEVENT
BEGIN:VEVENT
DTSTART;TZID=UTC:20250108T090000
DTEND;TZID=UTC:20250108T110000
DTSTAMP:20260421T151851
CREATED:20240909T211140Z
LAST-MODIFIED:20241227T052029Z
UID:3083-1736326800-1736334000@cvdpn.org
SUMMARY:Personal Preparedness Training Seminar
DESCRIPTION:
URL:https://cvdpn.org/event/how-to-build-a-community-disaster-plan-2/
END:VEVENT
BEGIN:VEVENT
DTSTART;TZID=UTC:20241219T120000
DTEND;TZID=UTC:20241219T160000
DTSTAMP:20260421T151851
CREATED:20240909T211035Z
LAST-MODIFIED:20240909T211035Z
UID:3081-1734609600-1734624000@cvdpn.org
SUMMARY:Personal Preparedness Training
DESCRIPTION:
URL:https://cvdpn.org/event/personal-preparedness-training-2/
LOCATION:RAP Room 103
END:VEVENT
BEGIN:VEVENT
DTSTART;TZID=UTC:20241213T080000
DTEND;TZID=UTC:20241213T170000
DTSTAMP:20260421T151851
CREATED:20241028T211819Z
LAST-MODIFIED:20241028T211819Z
UID:3316-1734076800-1734109200@cvdpn.org
SUMMARY:CERT Training Rancho Mirage
DESCRIPTION:
URL:https://cvdpn.org/event/cert-training-rancho-mirage-3/
LOCATION:Roy Wilson Training Center\, Thousand Palms
END:VEVENT
BEGIN:VEVENT
DTSTART;TZID=UTC:20241212T080000
DTEND;TZID=UTC:20241212T170000
DTSTAMP:20260421T151851
CREATED:20241028T211744Z
LAST-MODIFIED:20241028T211744Z
UID:3314-1733990400-1734022800@cvdpn.org
SUMMARY:CERT Training Rancho Mirage
DESCRIPTION:
URL:https://cvdpn.org/event/cert-training-rancho-mirage-2/
LOCATION:Roy Wilson Training Center\, Thousand Palms
END:VEVENT
BEGIN:VEVENT
DTSTART;TZID=UTC:20241211T080000
DTEND;TZID=UTC:20241211T170000
DTSTAMP:20260421T151851
CREATED:20241028T211519Z
LAST-MODIFIED:20241028T211557Z
UID:3312-1733904000-1733936400@cvdpn.org
SUMMARY:CERT Training Rancho Mirage
DESCRIPTION:
URL:https://cvdpn.org/event/cert-training-rancho-mirage/
LOCATION:Roy Wilson Training Center\, Thousand Palms
END:VEVENT
BEGIN:VEVENT
DTSTART;TZID=UTC:20241210T080000
DTEND;TZID=UTC:20241210T170000
DTSTAMP:20260421T151851
CREATED:20241028T211242Z
LAST-MODIFIED:20241028T211242Z
UID:3308-1733817600-1733850000@cvdpn.org
SUMMARY:CERT Refresher
DESCRIPTION:
URL:https://cvdpn.org/event/cert-refresher/
LOCATION:Roy Wilson Training Center\, Thousand Palms
END:VEVENT
BEGIN:VEVENT
DTSTART;TZID=UTC:20241123T090000
DTEND;TZID=UTC:20241123T140000
DTSTAMP:20260421T151851
CREATED:20240909T210914Z
LAST-MODIFIED:20240909T210914Z
UID:3078-1732352400-1732370400@cvdpn.org
SUMMARY:International Day of Persons with Disabilities
DESCRIPTION:
URL:https://cvdpn.org/event/international-day-of-persons-with-disabilities-2/
LOCATION:The Living Desert
END:VEVENT
BEGIN:VEVENT
DTSTART;TZID=UTC:20241121T090000
DTEND;TZID=UTC:20241121T110000
DTSTAMP:20260421T151851
CREATED:20240909T210745Z
LAST-MODIFIED:20241028T212055Z
UID:3076-1732179600-1732186800@cvdpn.org
SUMMARY:Personal Preparedness
DESCRIPTION:
URL:https://cvdpn.org/event/how-to-build-a-community-disaster-plan/
LOCATION:RAP Room 103
END:VEVENT
BEGIN:VEVENT
DTSTART;TZID=UTC:20241117T080000
DTEND;TZID=UTC:20241117T170000
DTSTAMP:20260421T151851
CREATED:20240909T210624Z
LAST-MODIFIED:20240911T200808Z
UID:3074-1731830400-1731862800@cvdpn.org
SUMMARY:CERT Training - Palm Springs
DESCRIPTION:
URL:https://cvdpn.org/event/cert-training-9/
LOCATION:Palm Springs Fire Training Center
END:VEVENT
BEGIN:VEVENT
DTSTART;TZID=UTC:20241116T080000
DTEND;TZID=UTC:20241116T170000
DTSTAMP:20260421T151851
CREATED:20240909T210501Z
LAST-MODIFIED:20240911T200800Z
UID:3072-1731744000-1731776400@cvdpn.org
SUMMARY:CERT Training - Palm Springs
DESCRIPTION:
URL:https://cvdpn.org/event/cert-training-8/
LOCATION:Palm Springs Fire Training Center
END:VEVENT
BEGIN:VEVENT
DTSTART;TZID=UTC:20241115T170000
DTEND;TZID=UTC:20241115T210000
DTSTAMP:20260421T151851
CREATED:20240909T210324Z
LAST-MODIFIED:20240911T200752Z
UID:3069-1731690000-1731704400@cvdpn.org
SUMMARY:CERT Training - Palm Springs
DESCRIPTION:
URL:https://cvdpn.org/event/cert-training-7/
LOCATION:Palm Springs Fire Training Center
END:VEVENT
BEGIN:VEVENT
DTSTART;TZID=UTC:20241113T130000
DTEND;TZID=UTC:20241113T150000
DTSTAMP:20260421T151851
CREATED:20240909T210128Z
LAST-MODIFIED:20241028T211938Z
UID:3067-1731502800-1731510000@cvdpn.org
SUMMARY:Stop the Bleed
DESCRIPTION:
URL:https://cvdpn.org/event/stop-the-bleed-5/
LOCATION:RAP Room 103
END:VEVENT
BEGIN:VEVENT
DTSTART;TZID=UTC:20241109T090000
DTEND;TZID=UTC:20241109T120000
DTSTAMP:20260421T151851
CREATED:20240909T205958Z
LAST-MODIFIED:20240909T205958Z
UID:3064-1731142800-1731153600@cvdpn.org
SUMMARY:Disaster Preparedness and Safety Expo
DESCRIPTION:
URL:https://cvdpn.org/event/disaster-preparedness-and-safety-expo/
LOCATION:Rancho Mirage Library
END:VEVENT
BEGIN:VEVENT
DTSTART;TZID=UTC:20241103T080000
DTEND;TZID=UTC:20241103T170000
DTSTAMP:20260421T151851
CREATED:20240910T161818Z
LAST-MODIFIED:20240911T200615Z
UID:3113-1730620800-1730653200@cvdpn.org
SUMMARY:CERT Training - Temescal Valley
DESCRIPTION:
URL:https://cvdpn.org/event/cert-training-15/
LOCATION:Temescal Valley-Deleo Regional Sports Park
END:VEVENT
BEGIN:VEVENT
DTSTART;TZID=UTC:20241102T080000
DTEND;TZID=UTC:20241102T170000
DTSTAMP:20260421T151851
CREATED:20240910T161713Z
LAST-MODIFIED:20240911T200550Z
UID:3111-1730534400-1730566800@cvdpn.org
SUMMARY:CERT Training - Temescal Valley
DESCRIPTION:
URL:https://cvdpn.org/event/cert-training-14/
LOCATION:Temescal Valley-Deleo Regional Sports Park
END:VEVENT
BEGIN:VEVENT
DTSTART;TZID=UTC:20241101T170000
DTEND;TZID=UTC:20241101T210000
DTSTAMP:20260421T151851
CREATED:20240910T161615Z
LAST-MODIFIED:20240911T200543Z
UID:3108-1730480400-1730494800@cvdpn.org
SUMMARY:CERT Training - Temescal Valley
DESCRIPTION:
URL:https://cvdpn.org/event/cert-training-13/
LOCATION:Temescal Valley-Deleo Regional Sports Park
END:VEVENT
BEGIN:VEVENT
DTSTART;TZID=UTC:20241024T160000
DTEND;TZID=UTC:20241024T180000
DTSTAMP:20260421T151851
CREATED:20241028T212159Z
LAST-MODIFIED:20241028T212159Z
UID:3319-1729785600-1729792800@cvdpn.org
SUMMARY:Volunteer and Donor Celebration Party
DESCRIPTION:
URL:https://cvdpn.org/event/volunteer-and-donor-celebration-party/
LOCATION:RAP Building
END:VEVENT
BEGIN:VEVENT
DTSTART;TZID=UTC:20241022T130000
DTEND;TZID=UTC:20241022T150000
DTSTAMP:20260421T151851
CREATED:20240909T204533Z
LAST-MODIFIED:20240909T204533Z
UID:3062-1729602000-1729609200@cvdpn.org
SUMMARY:Stop the Bleed
DESCRIPTION:
URL:https://cvdpn.org/event/stop-the-bleed-4/
LOCATION:RAP Room 103
END:VEVENT
BEGIN:VEVENT
DTSTART;TZID=UTC:20241020T080000
DTEND;TZID=UTC:20241020T170000
DTSTAMP:20260421T151851
CREATED:20240910T161439Z
LAST-MODIFIED:20240911T200503Z
UID:3106-1729411200-1729443600@cvdpn.org
SUMMARY:CERT Training - Desert Crest
DESCRIPTION:
URL:https://cvdpn.org/event/cert-training-12/
LOCATION:Desert Hot Springs-Desert Crest CC
END:VEVENT
BEGIN:VEVENT
DTSTART;TZID=UTC:20241020T080000
DTEND;TZID=UTC:20241020T170000
DTSTAMP:20260421T151851
CREATED:20240909T204347Z
LAST-MODIFIED:20240911T200439Z
UID:3060-1729411200-1729443600@cvdpn.org
SUMMARY:CERT Training - Perris
DESCRIPTION:
URL:https://cvdpn.org/event/cert-training-6/
LOCATION:Perris City Hall
END:VEVENT
BEGIN:VEVENT
DTSTART;TZID=UTC:20241019T080000
DTEND;TZID=UTC:20241019T170000
DTSTAMP:20260421T151851
CREATED:20240910T161303Z
LAST-MODIFIED:20240911T200405Z
UID:3104-1729324800-1729357200@cvdpn.org
SUMMARY:CERT Training - Desert Crest
DESCRIPTION:
URL:https://cvdpn.org/event/cert-training-11/
LOCATION:Desert Hot Springs-Desert Crest CC
END:VEVENT
BEGIN:VEVENT
DTSTART;TZID=UTC:20241019T080000
DTEND;TZID=UTC:20241019T170000
DTSTAMP:20260421T151851
CREATED:20240909T204232Z
LAST-MODIFIED:20240911T200336Z
UID:3058-1729324800-1729357200@cvdpn.org
SUMMARY:CERT Training - Perris
DESCRIPTION:
URL:https://cvdpn.org/event/cert-training-5/
LOCATION:Perris City Hall
END:VEVENT
BEGIN:VEVENT
DTSTART;TZID=UTC:20241018T173000
DTEND;TZID=UTC:20241018T213000
DTSTAMP:20260421T151851
CREATED:20240909T204111Z
LAST-MODIFIED:20240911T200258Z
UID:3055-1729272600-1729287000@cvdpn.org
SUMMARY:CERT Training - Perris
DESCRIPTION:
URL:https://cvdpn.org/event/cert-training-4/
LOCATION:Perris City Hall
END:VEVENT
BEGIN:VEVENT
DTSTART;TZID=UTC:20241018T170000
DTEND;TZID=UTC:20241018T210000
DTSTAMP:20260421T151851
CREATED:20240910T161100Z
LAST-MODIFIED:20240911T200224Z
UID:3101-1729270800-1729285200@cvdpn.org
SUMMARY:CERT Training - Desert Crest
DESCRIPTION:
URL:https://cvdpn.org/event/cert-training-10/
LOCATION:Desert Hot Springs-Desert Crest CC
END:VEVENT
BEGIN:VEVENT
DTSTART;TZID=UTC:20241017T101700
DTEND;TZID=UTC:20241017T101700
DTSTAMP:20260421T151851
CREATED:20240909T212302Z
LAST-MODIFIED:20240909T212302Z
UID:3098-1729160220-1729160220@cvdpn.org
SUMMARY:Great California Shake Out
DESCRIPTION:
URL:https://cvdpn.org/event/great-california-shake-out-2/
LOCATION:California
END:VEVENT
END:VCALENDAR