BEGIN:VCALENDAR
VERSION:2.0
PRODID:-//CVDPN - ECPv6.15.20//NONSGML v1.0//EN
CALSCALE:GREGORIAN
METHOD:PUBLISH
X-ORIGINAL-URL:https://cvdpn.org
X-WR-CALDESC:Events for CVDPN
REFRESH-INTERVAL;VALUE=DURATION:PT1H
X-Robots-Tag:noindex
X-PUBLISHED-TTL:PT1H
BEGIN:VTIMEZONE
TZID:UTC
BEGIN:STANDARD
TZOFFSETFROM:+0000
TZOFFSETTO:+0000
TZNAME:UTC
DTSTART:20240101T000000
END:STANDARD
END:VTIMEZONE
BEGIN:VEVENT
DTSTART;TZID=UTC:20250430T130000
DTEND;TZID=UTC:20250430T150000
DTSTAMP:20260421T112106
CREATED:20250114T193404Z
LAST-MODIFIED:20250425T193530Z
UID:3464-1746018000-1746025200@cvdpn.org
SUMMARY:“Stop the Bleed” from 1:00pm – 3:00pm
DESCRIPTION:
URL:https://cvdpn.org/event/stop-the-bleed-from-100pm-300pm/
LOCATION:RAP Building
END:VEVENT
BEGIN:VEVENT
DTSTART;TZID=UTC:20250515T160000
DTEND;TZID=UTC:20250515T180000
DTSTAMP:20260421T112106
CREATED:20250425T192645Z
LAST-MODIFIED:20250425T192949Z
UID:3564-1747324800-1747332000@cvdpn.org
SUMMARY:Watch Your Step - Senior Fall Prevention
DESCRIPTION:
URL:https://cvdpn.org/event/watch-your-step-senior-fall-prevention/
LOCATION:RAP Building
END:VEVENT
BEGIN:VEVENT
DTSTART;TZID=UTC:20250528T140000
DTEND;TZID=UTC:20250528T163000
DTSTAMP:20260421T112106
CREATED:20250425T192920Z
LAST-MODIFIED:20250430T204314Z
UID:3566-1748440800-1748449800@cvdpn.org
SUMMARY:Personal Preparedness
DESCRIPTION:
URL:https://cvdpn.org/event/personal-preparedness-05_28_2025/
LOCATION:RAP Building
END:VEVENT
BEGIN:VEVENT
DTSTART;TZID=UTC:20250628T110000
DTEND;TZID=UTC:20250628T160000
DTSTAMP:20260421T112106
CREATED:20250425T193348Z
LAST-MODIFIED:20250603T184518Z
UID:3571-1751108400-1751126400@cvdpn.org
SUMMARY:Amateur Radio Field Day
DESCRIPTION:
URL:https://cvdpn.org/event/amateur-radio-field-day/
LOCATION:Cathedral City Library\, CA
END:VEVENT
BEGIN:VEVENT
DTSTART;TZID=UTC:20250910T090000
DTEND;TZID=UTC:20250910T110000
DTSTAMP:20260421T112106
CREATED:20250603T184843Z
LAST-MODIFIED:20250905T164303Z
UID:3594-1757494800-1757502000@cvdpn.org
SUMMARY:Personal Preparedness
DESCRIPTION:
URL:https://cvdpn.org/event/personal-preparedness-2/
LOCATION:RAP Building
END:VEVENT
BEGIN:VEVENT
DTSTART;TZID=UTC:20251203T100000
DTEND;TZID=UTC:20251203T120000
DTSTAMP:20260421T112106
CREATED:20251030T193234Z
LAST-MODIFIED:20251030T193234Z
UID:3723-1764756000-1764763200@cvdpn.org
SUMMARY:Active Shooter Training - Dec. 3rd
DESCRIPTION:Register for this event 12/3/25
URL:https://cvdpn.org/event/active-shooter-training-dec-3rd/
LOCATION:RAP Building
END:VEVENT
BEGIN:VEVENT
DTSTART;TZID=UTC:20260107T150000
DTEND;TZID=UTC:20260107T170000
DTSTAMP:20260421T112106
CREATED:20251212T205458Z
LAST-MODIFIED:20251212T205458Z
UID:3769-1767798000-1767805200@cvdpn.org
SUMMARY:Personal Preparedness - 01-07-2026
DESCRIPTION:Register for this event here!
URL:https://cvdpn.org/event/personal-preparedness-01-07-2026/
LOCATION:RAP Building
END:VEVENT
END:VCALENDAR